BEGIN:VCALENDAR
VERSION:2.0
PRODID:-//Verena Klaps - ECPv6.15.17//NONSGML v1.0//EN
CALSCALE:GREGORIAN
METHOD:PUBLISH
X-ORIGINAL-URL:https://verenaklaps.com
X-WR-CALDESC:Veranstaltungen für Verena Klaps
REFRESH-INTERVAL;VALUE=DURATION:PT1H
X-Robots-Tag:noindex
X-PUBLISHED-TTL:PT1H
BEGIN:VTIMEZONE
TZID:Europe/Berlin
BEGIN:DAYLIGHT
TZOFFSETFROM:+0100
TZOFFSETTO:+0200
TZNAME:CEST
DTSTART:20250330T010000
END:DAYLIGHT
BEGIN:STANDARD
TZOFFSETFROM:+0200
TZOFFSETTO:+0100
TZNAME:CET
DTSTART:20251026T010000
END:STANDARD
BEGIN:DAYLIGHT
TZOFFSETFROM:+0100
TZOFFSETTO:+0200
TZNAME:CEST
DTSTART:20260329T010000
END:DAYLIGHT
BEGIN:STANDARD
TZOFFSETFROM:+0200
TZOFFSETTO:+0100
TZNAME:CET
DTSTART:20261025T010000
END:STANDARD
BEGIN:DAYLIGHT
TZOFFSETFROM:+0100
TZOFFSETTO:+0200
TZNAME:CEST
DTSTART:20270328T010000
END:DAYLIGHT
BEGIN:STANDARD
TZOFFSETFROM:+0200
TZOFFSETTO:+0100
TZNAME:CET
DTSTART:20271031T010000
END:STANDARD
END:VTIMEZONE
BEGIN:VEVENT
DTSTART;TZID=Europe/Berlin:20260429T200000
DTEND;TZID=Europe/Berlin:20260429T203000
DTSTAMP:20260422T155317
CREATED:20260307T144542Z
LAST-MODIFIED:20260409T091257Z
UID:4558-1777492800-1777494600@verenaklaps.com
SUMMARY:✨ Meditation via Zoom
DESCRIPTION:Hallo Zusammen\, \nWir leben in sehr turbulente Zeiten\, die einem Angst machen können. Wir fühlen uns von dem „System“ im Stich gelassen und wollen nur eines – endlich wieder Sicherheit fühlen. Dadurch begeben wir uns in eine niedrig schwingende Energie und die kollektive Angstmache setzt sich in uns fort. \nIch habe mich gefragt\, was wir tun können\, um dem entgegen zu wirken. Und genau deswegen öffne ich diesen Raum für dich: \nIn dieser halben Stunde lade ich dich zu wiederkehrenden Meditationen ein\, die dich spüren lassen\, dass du in dir sicher bist. Für die Menschen\, die handlungsunfähig sind übernehmen wir die Handlung und starten dabei bei uns. \nSo lassen wir die Energie immer höher werden. Und so sorgen wir für eine Bewegung\, die mehr Sicherheit\, mehr Liebe und mehr Ruhe bringt. \nDiese Termine sind für dich ein Geschenk. Nutze die Zeit für dich\, aber sei pünktlich\, denn 5 Minuten nach Start wird der Raum geschlossen\, um uns ankommen zu lassen. \nAnbei der Link: https://us06web.zoom.us/j/87580147753 \nIch freue mich auf dich! \nP.s. Ich habe noch eine Bitte an dich\, da mir das wirklich am Herzen liegt. Lass das bitte größer werden. Teile diesen Termin gerne mit Freunden\, Familie oder Menschen auf sozialen Medien. Ich glaube jeder kann das aktuell gebrauchen. Je mehr wir in die Bewusstwerdung und Achtsamkeit bringen\, umso Größeres können wir schaffen.
URL:https://verenaklaps.com/event/meditation-2/
CATEGORIES:Meditation
ATTACH;FMTTYPE=image/png:https://verenaklaps.com/wp-content/uploads/2026/03/3.png
END:VEVENT
BEGIN:VEVENT
DTSTART;TZID=Europe/Berlin:20260430T183000
DTEND;TZID=Europe/Berlin:20260430T203000
DTSTAMP:20260422T155317
CREATED:20260422T103757Z
LAST-MODIFIED:20260422T104709Z
UID:5177-1777573800-1777581000@verenaklaps.com
SUMMARY:Warum echte Verbindung leichter ist\, als du denkst. Offline-Workshop.
DESCRIPTION:About this event\nWas gerade abgeht: Viele Menschen fühlen sich einsam – trotz Social Media und ständigem Kontakt. \nBegegnungen bleiben oft oberflächlich\, egal ob im Dating oder in Freundschaften. \nGleichzeitig entsteht Überforderung in zentralen Lebensbereichen: \n\nLiebe & Dating\nBeruf & Orientierung\nSelbstbild & innere Klarheit\n\nViele wissen nicht mehr\, wie sie sich selbst wirklich verstehen sollen – und genau das macht echte Verbindung schwierig. ???????? \nWorum geht‘s? Gemeinsam mit Verena Klaps\, Autorin und Mental-Health-Influencerin\, schaffen einen Raum für echte Begegnung – mit dir selbst und mit anderen. ????????‍♀️ Weniger Oberfläche\, mehr Tiefe. Mehr Klarheit darüber\, was du willst\, brauchst und suchst. Themen\, die dich begleiten werden: Liebe / Dating – Berufung / Herzensweg – Sicherheit / Loslassen \nWas dich erwartet: \n\ninteraktive Elemente & gemeinsame Reflexion\nneue Perspektiven auf bekannte Fragen\nImpulse\, die über den Abend hinaus wirken\n\nDas genaue Programm bleibt bewusst offen – aber so viel ist sicher: Es geht von außen nach innen! ???? Du wirst Dinge über dich entdecken\, die im Alltag oft untergehen. Ziel des Abends: – Mehr Klarheit über dich selbst. – Ein besseres Verständnis für deine Bedürfnisse. – Und die Grundlage für echte\, tiefere Verbindungen. \nBis bald! \nKlicke für das Ticket
URL:https://verenaklaps.com/event/warum-echte-verbindung-leichter-ist-als-du-denkst-offline-workshop/
CATEGORIES:Offline Event
ATTACH;FMTTYPE=image/png:https://verenaklaps.com/wp-content/uploads/2026/04/Kein-Titel-900-x-200-px-1280-x-720-px-11.png
END:VEVENT
BEGIN:VEVENT
DTSTART;TZID=Europe/Berlin:20260504T190000
DTEND;TZID=Europe/Berlin:20260504T190000
DTSTAMP:20260422T155317
CREATED:20260409T094836Z
LAST-MODIFIED:20260422T102525Z
UID:5143-1777921200-1777921200@verenaklaps.com
SUMMARY:Tauche ein in meine Welt via Zoom
DESCRIPTION:Hallo und herzlich willkommen. \nIch habe etwas für dich kreiert.\nNicht einfach Wissen – sondern etwas\, das du fühlen wirst. Quasi\, wie eine Geschichte\, aber mit Wahrheit. \nEtwas\, das aus meinem eigenen Weg entstanden ist.\nErfahrungen\, durch die ich gegangen bin – und die dir helfen können\, dich selbst klarer zu sehen\, zu verstehen und wirklich ins Tun zu kommen. \nDieser Abend ist für dich.\nKostenfrei. Offen. Echt. \nWenn du spürst\, dass da mehr in dir ist…\nmehr Freiheit\, mehr Selbstbestimmung\, mehr Leben –\naber du es noch nicht ganz greifst\,\ndann komm dazu. \nIch nehme dich mit. \nUnd gleichzeitig:\nEs gibt keine Erinnerung.\nKein Formular. Kein Hinterherlaufen. \nEigenverantwortung. \nWenn es dich ruft\, trag dir den Termin ein und sei da.\nWenn nicht\, ist auch das vollkommen okay. \nWann: 4.5.2026\nUhrzeit: 19:00 – 20:30 Uhr \nZoomlink: https://us06web.zoom.us/j/83299141540?pwd=byD5vJcL6Gx8qCUd7oea3Q86kRkP4u.1 \nIn vollster Liebe\,\ndeine Verena
URL:https://verenaklaps.com/event/tauche-ein-in-meine-welt-via-zoom/
CATEGORIES:kostenfrei
ATTACH;FMTTYPE=image/png:https://verenaklaps.com/wp-content/uploads/2026/04/Kein-Titel-900-x-200-px-1280-x-720-px-8.png
END:VEVENT
BEGIN:VEVENT
DTSTART;VALUE=DATE:20260523
DTEND;VALUE=DATE:20260525
DTSTAMP:20260422T155317
CREATED:20260307T170921Z
LAST-MODIFIED:20260409T091047Z
UID:4578-1779494400-1779667199@verenaklaps.com
SUMMARY:♥️ Retreat: "So Klap(pt)s 2.0" Österreich
DESCRIPTION:Hallo Zusammen\, \n2 Tage voller Ruhe\, Entspannung\, Workshops und Klassenfahrtstimmung garantiert! Dieses Event hat bereits letztes Jahr in der Schweiz stattgefunden und hat sich bewehrt! Es ist so schön mit Gleichgesinnten zusammenzukommen und mitten in der Natur wieder zu sich zu finden. Gehalten durch tolle Individuen. Das Motto des diesjährigen Retreats ist: Emotions- und Nervenregulation. \nJa\, wir werden basteln\, uns bewegen\, unseren Geist trainieren und in Stille verharren lernen. Mehr möchte ich nicht verraten – denn es geht letztendlich ums Erfahren. \nLies dir bitte die Beschreibung des jeweiligen Standorts durch und dann freue ich mich auf unser gemeinsames Wochenende! \nP.s. es kann überall einen Tag früher angereist werden und einen Tag später abgereist werden\, um das Wochenende stressfrei genießen zu können. Ich freue mich auf dich! \nHier gehts zum Ticketverkauf: So KLAP(pt)S – Das Retreat!
URL:https://verenaklaps.com/event/retreat-so-klappts-2-0-oesterreich/
CATEGORIES:Retreat
ATTACH;FMTTYPE=image/png:https://verenaklaps.com/wp-content/uploads/2026/03/4-2.png
END:VEVENT
BEGIN:VEVENT
DTSTART;VALUE=DATE:20260530
DTEND;VALUE=DATE:20260601
DTSTAMP:20260422T155317
CREATED:20260307T171509Z
LAST-MODIFIED:20260409T091016Z
UID:4586-1780099200-1780271999@verenaklaps.com
SUMMARY:♥️ Retreat: "So Klap(pt)s 2.0" Schweiz
DESCRIPTION:Hallo Zusammen\, \n2 Tage voller Ruhe\, Entspannung\, Workshops und Klassenfahrtstimmung garantiert! Dieses Event hat bereits letztes Jahr in der Schweiz stattgefunden und hat sich bewehrt! Es ist so schön mit Gleichgesinnten zusammenzukommen und mitten in der Natur wieder zu sich zu finden. Gehalten durch tolle Individuen. Das Motto des diesjährigen Retreats ist: Emotions- und Nervenregulation. \nJa\, wir werden basteln\, uns bewegen\, unseren Geist trainieren und in Stille verharren lernen. Mehr möchte ich nicht verraten – denn es geht letztendlich ums Erfahren. \nLies dir bitte die Beschreibung des jeweiligen Standorts durch und dann freue ich mich auf unser gemeinsames Wochenende! \nP.s. es kann überall einen Tag früher angereist werden und einen Tag später abgereist werden\, um das Wochenende stressfrei genießen zu können. Ich freue mich auf dich! \nHier gehts zum Ticketverkauf: So KLAP(pt)S – Das Retreat!
URL:https://verenaklaps.com/event/%e2%99%a5%ef%b8%8f-retreat-so-klappts-2-0-schweiz-2/
CATEGORIES:Retreat
ATTACH;FMTTYPE=image/png:https://verenaklaps.com/wp-content/uploads/2026/03/5-1.png
END:VEVENT
BEGIN:VEVENT
DTSTART;VALUE=DATE:20260606
DTEND;VALUE=DATE:20260608
DTSTAMP:20260422T155317
CREATED:20260307T171641Z
LAST-MODIFIED:20260409T090927Z
UID:4590-1780704000-1780876799@verenaklaps.com
SUMMARY:♥️ Retreat: "So Klap(pt)s 2.0" Deutschland
DESCRIPTION:Hallo Zusammen\, \n2 Tage voller Ruhe\, Entspannung\, Workshops und Klassenfahrtstimmung garantiert! Dieses Event hat bereits letztes Jahr in der Schweiz stattgefunden und hat sich bewehrt! Es ist so schön mit Gleichgesinnten zusammenzukommen und mitten in der Natur wieder zu sich zu finden. Gehalten durch tolle Individuen. Das Motto des diesjährigen Retreats ist: Emotions- und Nervenregulation. \nJa\, wir werden basteln\, uns bewegen\, unseren Geist trainieren und in Stille verharren lernen. Mehr möchte ich nicht verraten – denn es geht letztendlich ums Erfahren. \nLies dir bitte die Beschreibung des jeweiligen Standorts durch und dann freue ich mich auf unser gemeinsames Wochenende! \nP.s. es kann überall einen Tag früher angereist werden und einen Tag später abgereist werden\, um das Wochenende stressfrei genießen zu können. Ich freue mich auf dich! \nHier gehts zum Ticketverkauf: So KLAP(pt)S – Das Retreat!
URL:https://verenaklaps.com/event/%e2%99%a5%ef%b8%8f-retreat-so-klappts-2-0-deutschland/
CATEGORIES:Retreat
ATTACH;FMTTYPE=image/png:https://verenaklaps.com/wp-content/uploads/2026/03/6.png
END:VEVENT
BEGIN:VEVENT
DTSTART;TZID=Europe/Berlin:20260616T080000
DTEND;TZID=Europe/Berlin:20260622T170000
DTSTAMP:20260422T155317
CREATED:20260409T082951Z
LAST-MODIFIED:20260409T091121Z
UID:5131-1781596800-1782147600@verenaklaps.com
SUMMARY:Portugalreise mit der Community!
DESCRIPTION:Hallo Zusammen! Wir verreisen! Und du kannst mit dabei sein. \nUns erwartet eine spannende Woche voller Workshops und Abenteuer. Ich bin diesmal keine Vortragende\, sondern nehme mit euch gemeinsam dran teil. Wir sind mitten in der Natur und begeben uns auf eine spannende Reise zu uns selbst. \nPortugal ist für mich in meinem Werdegang das aller prägendste Land. Hier habe ich entschieden komplett meinen Weg einzuschlagen. Diese Energie möchte ich mit dir teilen! \nDu willst mehr erfahren? Dann trage dich gerne unter dem Formular ein und ich meld mich bei dir persönlich mit allen relevanten Informationen. 🙂 (P.s. wir können nur noch 2 Menschen mitnehmen) \nBitte aktiviere JavaScript in deinem Browser\, um dieses Formular fertigzustellen.Bitte aktiviere JavaScript in deinem Browser\, um dieses Formular fertigzustellen.Name *VornameNachnameE-Mail-Adresse *		\n			E-Mail-Adresse Telefonnummer Name\n			\n		\n		TelefonnummerAbsenden
URL:https://verenaklaps.com/event/portugalreise-mit-der-community/
CATEGORIES:Retreat
ATTACH;FMTTYPE=image/png:https://verenaklaps.com/wp-content/uploads/2026/03/3-2.png
END:VEVENT
END:VCALENDAR